 BEGIN:VCALENDAR
VERSION:2.0
PRODID:-//musikschule-bremen:-buntes-aus-aumund//NONSGML kigkonsult.se iCal
 creator 2.18//
METHOD:PUBLISH
X-WR-CALNAME:Musikschule Bremen: Buntes aus Aumund
X-WR-CALDESC:
X-WR-TIMEZONE:Europe/Berlin
BEGIN:VTIMEZONE
TZID:Europe/Berlin
X-LIC-LOCATION:Europe/Berlin
BEGIN:STANDARD
DTSTART:20261025T030000
TZOFFSETFROM:+0200
TZOFFSETTO:+0100
TZNAME:CET
END:STANDARD
BEGIN:DAYLIGHT
DTSTART:20260329T020000
TZOFFSETFROM:+0100
TZOFFSETTO:+0200
RDATE:20270328T020000
TZNAME:CEST
END:DAYLIGHT
END:VTIMEZONE
BEGIN:VEVENT
UID:20260424T223747CEST-8542aHwIlJ@musikschule-bremen:-buntes-aus-aumund
DTSTAMP:20260424T203747Z
DESCRIPTION:Ein Konzert mit Schülerinnen und Schülern der Grundschule Alt-A
 umund
DTSTART;TZID=Europe/Berlin:20260618T180000
LOCATION:Grundschule Alt-Aumund
SUMMARY:Buntes aus Aumund 
END:VEVENT
END:VCALENDAR
