 BEGIN:VCALENDAR
VERSION:2.0
PRODID:-//musikschule-bremen:-familienkonzert:-meine-klangreise-musik-von-k
 onstantia-gourzi//NONSGML kigkonsult.se iCalcreator 2.18//
METHOD:PUBLISH
X-WR-CALNAME:Musikschule Bremen: Familienkonzert: Meine Klangreise - Musik 
 von Konstantia Gourzi
X-WR-CALDESC:
X-WR-TIMEZONE:Europe/Berlin
BEGIN:VTIMEZONE
TZID:Europe/Berlin
X-LIC-LOCATION:Europe/Berlin
BEGIN:STANDARD
DTSTART:20261025T030000
TZOFFSETFROM:+0200
TZOFFSETTO:+0100
TZNAME:CET
END:STANDARD
BEGIN:DAYLIGHT
DTSTART:20260329T020000
TZOFFSETFROM:+0100
TZOFFSETTO:+0200
RDATE:20270328T020000
TZNAME:CEST
END:DAYLIGHT
END:VTIMEZONE
BEGIN:VEVENT
UID:20260420T080056CEST-3912iGCVgl@musikschule-bremen:-familienkonzert:-mei
 ne-klangreise-musik-von-konstantia-gourzi
DTSTAMP:20260420T060056Z
DESCRIPTION:Ein interaktives Konzert mit großem Orchester und Performance. 
 Jugendsinfonieorchester Bremen / Studierenden der Elementaren Musikpädagog
 ik der Hochschule für Künste Bremen. Zu...
DTSTART;TZID=Europe/Berlin:20260426T110000
LOCATION:Halle 1\, Tabakquartier
SUMMARY:Familienkonzert: Meine Klangreise - Musik von Konstantia Gourzi
END:VEVENT
END:VCALENDAR
